Workbook

Sheet Loonschalen per 1 juli 2024
A1: Loonschalen met ingang van 1 juli 2024
B2: Schaal
A3: Periodiek | B3: O | C3: A | D3: B1 | E3: B2 | F3: C1 | G3: C2 | H3: D1 | I3: D2 | J3: E | K3: F | L3: G | M3: H | N3: I
A4: Start | B4: WML | C4: WML | D4: WML | E4: WML | F4: WML | G4: WML | H4: 2147 | I4: 2147 | J4: 2340 | K4: 2537 | L4: 2694 | M4: 3165 | N4: 3603
A5: 1 | C5: WML | D5: WML | E5: WML | F5: 2073 | G5: 2073 | H5: 2262 | I5: 2262 | J5: 2537 | K5: 2694 | L5: 3004 | M5: 3523 | N5: 3840
A6: 2 | C6: WML | D6: WML | E6: WML | F6: 2147 | G6: 2147 | H6: 2340 | I6: 2340 | J6: 2615 | K6: 2776 | L6: 3165 | M6: 3681 | N6: 4036
A7: 3 | D7: WML | E7: WML | F7: 2224 | G7: 2224 | H7: 2459 | I7: 2459 | J7: 2694 | K7: 2850 | L7: 3326 | M7: 3803 | N7: 4195
A8: 4 | D8: 2073 | E8: 2073 | F8: 2262 | G8: 2262 | H8: 2495 | I8: 2495 | J8: 2776 | K8: 2929 | L8: 3443 | M8: 3840 | N8: 4350
A9: 5 | E9: 2109 | F9: 2299 | G9: 2299 | H9: 2537 | I9: 2537 | J9: 2850 | K9: 3004 | L9: 3523 | M9: 3916 | N9: 4583
A10: 6 | E10: 2147 | G10: 2340 | H10: 2575 | I10: 2575 | J10: 2929 | K10: 3083 | L10: 3603 | M10: 4036 | N10: 4805
A11: 7 | G11: 2403 | I11: 2615 | J11: 3004 | K11: 3165 | L11: 3681 | M11: 4102 | N11: 4989
A12: 8 | I12: 2694 | J12: 3083 | K12: 3246 | L12: 3758 | M12: 4195 | N12: 5131
A13: 9 | K13: 3326 | L13: 3803 | M13: 4272 | N13: 5352
A14: 10 | L14: 3840 | M14: 4350 | N14: 5578
A15: 11 | N15: 5792
A17: De geel gearceerde bedragen komen lager uit dan het wettelijk minimumloon.
A18: Voor deze bedragen geldt dat de werkgever minimaal het wettelijk minimumloon uitbetaald.
A19: De bedragen bij die schalen worden verhoogd tot het niveau van het WML van 1 juli 2024.
A20: Het WML per 1 juli 2024 is op uurbasis: 13,68 euro per uur.
A21: Een referentiebedrag per maand is te berekenen voor een 36 urige werkweek: € 2.150,50
A23: Berekening WML 1 jul 2024 per maand 36-uur | H23: Aanpassing van bedragen uit de Cao SW
A24: Werkdagen per jaar 2024 (ma-vr)= 262
A25: Uren per week = 36 | H25: Eigen bijdrage collectief vervoer (artikel 7.5a)
A26: Uren per dag = 36 / 5 = 7.2 | H26: Was op 1 januari 2024: € 32,41
A27: Werkuren per jaar = 262 * 7,2 = 1.886,40 uur | H27: Per 1 januari 2024: € 33,41
A28: Wettelijk minimumuurloon = € 13,68
A29: Minimum jaarloon = 1.886,40 uur x € 13,68 = € 25.805,952 | H29: Het bedrag van 2010 (artikel 7.5b)
A30: Minimum maandloon (jaarloon / 12 maanden) = € 2150,50* | H30: Was op 1 januari 2024: € 9,74
A31: * afgerond naar boven op de cent | H31: Op 1 juli 2024: € 10,04

Sheet Afgerond
A1: Loonschalen met ingang van 1 juli 2024 afgerond
B2: Schaal
A3: Periodiek | B3: O | C3: A | D3: B1 | E3: B2 | F3: C1 | G3: C2 | H3: D1 | I3: D2 | J3: E | K3: F | L3: G | M3: H | N3: I
A4: Start | B4: WML | C4: WML | D4: WML | E4: WML | F4: WML | G4: WML | H4: =ROUND(Berekening!H4,0) -> 2147 | I4: =ROUND(Berekening!I4,0) -> 2147 | J4: =ROUND(Berekening!J4,0) -> 2340 | K4: =ROUND(Berekening!K4,0) -> 2537 | L4: =ROUND(Berekening!L4,0) -> 2694 | M4: =ROUND(Berekening!M4,0) -> 3165 | N4: =ROUND(Berekening!N4,0) -> 3603
A5: 1 | C5: WML | D5: WML | E5: WML | F5: =ROUND(Berekening!F5,0) -> 2073 | G5: =ROUND(Berekening!G5,0) -> 2073 | H5: =ROUND(Berekening!H5,0) -> 2262 | I5: =ROUND(Berekening!I5,0) -> 2262 | J5: =ROUND(Berekening!J5,0) -> 2537 | K5: =ROUND(Berekening!K5,0) -> 2694 | L5: =ROUND(Berekening!L5,0) -> 3004 | M5: =ROUND(Berekening!M5,0) -> 3523 | N5: =ROUND(Berekening!N5,0) -> 3840
A6: 2 | C6: WML | D6: WML | E6: WML | F6: =ROUND(Berekening!F6,0) -> 2147 | G6: =ROUND(Berekening!G6,0) -> 2147 | H6: =ROUND(Berekening!H6,0) -> 2340 | I6: =ROUND(Berekening!I6,0) -> 2340 | J6: =ROUND(Berekening!J6,0) -> 2615 | K6: =ROUND(Berekening!K6,0) -> 2776 | L6: =ROUND(Berekening!L6,0) -> 3165 | M6: =ROUND(Berekening!M6,0) -> 3681 | N6: =ROUND(Berekening!N6,0) -> 4036
A7: 3 | D7: WML | E7: WML | F7: =ROUND(Berekening!F7,0) -> 2224 | G7: =ROUND(Berekening!G7,0) -> 2224 | H7: =ROUND(Berekening!H7,0) -> 2459 | I7: =ROUND(Berekening!I7,0) -> 2459 | J7: =ROUND(Berekening!J7,0) -> 2694 | K7: =ROUND(Berekening!K7,0) -> 2850 | L7: =ROUND(Berekening!L7,0) -> 3326 | M7: =ROUND(Berekening!M7,0) -> 3803 | N7: =ROUND(Berekening!N7,0) -> 4195
A8: 4 | D8: =ROUND(Berekening!D8,0) -> 2073 | E8: =ROUND(Berekening!E8,0) -> 2073 | F8: =ROUND(Berekening!F8,0) -> 2262 | G8: =ROUND(Berekening!G8,0) -> 2262 | H8: =ROUND(Berekening!H8,0) -> 2495 | I8: =ROUND(Berekening!I8,0) -> 2495 | J8: =ROUND(Berekening!J8,0) -> 2776 | K8: =ROUND(Berekening!K8,0) -> 2929 | ... N8: =ROUND(Berekening!N8,0) -> 4350
A9: 5 | E9: =ROUND(Berekening!E9,0) -> 2109 | F9: =ROUND(Berekening!F9,0) -> 2299 | G9: =ROUND(Berekening!G9,0) -> 2299 | H9: =ROUND(Berekening!H9,0) -> 2537 | I9: =ROUND(Berekening!I9,0) -> 2537 | J9: =ROUND(Berekening!J9,0) -> 2850 | K9: =ROUND(Berekening!K9,0) -> 3004 | L9: =ROUND(Berekening!L9,0) -> 3523 | ... N9: =ROUND(Berekening!N9,0) -> 4583
A10: 6 | E10: =ROUND(Berekening!E10,0) -> 2147 | G10: =ROUND(Berekening!G10,0) -> 2340 | H10: =ROUND(Berekening!H10,0) -> 2575 | I10: =ROUND(Berekening!I10,0) -> 2575 | J10: =ROUND(Berekening!J10,0) -> 2929 | K10: =ROUND(Berekening!K10,0) -> 3083 | L10: =ROUND(Berekening!L10,0) -> 3603 | M10: =ROUND(Berekening!M10,0) -> 4036 | N10: =ROUND(Berekening!N10,0) -> 4805
A11: 7 | G11: =ROUND(Berekening!G11,0) -> 2403 | I11: =ROUND(Berekening!I11,0) -> 2615 | J11: =ROUND(Berekening!J11,0) -> 3004 | K11: =ROUND(Berekening!K11,0) -> 3165 | L11: =ROUND(Berekening!L11,0) -> 3681 | M11: =ROUND(Berekening!M11,0) -> 4102 | N11: =ROUND(Berekening!N11,0) -> 4989
A12: 8 | I12: =ROUND(Berekening!I12,0) -> 2694 | J12: =ROUND(Berekening!J12,0) -> 3083 | K12: =ROUND(Berekening!K12,0) -> 3246 | L12: =ROUND(Berekening!L12,0) -> 3758 | M12: =ROUND(Berekening!M12,0) -> 4195 | N12: =ROUND(Berekening!N12,0) -> 5131
A13: 9 | K13: =ROUND(Berekening!K13,0) -> 3326 | L13: =ROUND(Berekening!L13,0) -> 3803 | M13: =ROUND(Berekening!M13,0) -> 4272 | N13: =ROUND(Berekening!N13,0) -> 5352
A14: 10 | L14: =ROUND(Berekening!L14,0) -> 3840 | M14: =ROUND(Berekening!M14,0) -> 4350 | N14: =ROUND(Berekening!N14,0) -> 5578
A15: 11 | N15: =ROUND(Berekening!N15,0) -> 5792
A17: De geel gearceerde bedragen komen lager uit dan het wettelijk minimumloon.
A18: Voor deze bedragen geldt dat de werkgever minimaal het wettelijk minimumloon uitbetaald.
A19: De bedragen bij die schalen worden verhoogd tot het niveau van het WML van 1 juli 2024.
A20: Het WML per 1 juli 2024 is op uurbasis: 13,68 euro per uur.
A21: Een referentiebedrag per maand is te berekenen voor een 36 urige werkweek: € 2.150,50
A23: Berekening WML 1 jul 2024 per maand 36-uur
A24: Werkdagen per jaar 2024 (ma-vr)= 262
A25: Uren per week = 36
A26: Uren per dag = 36 / 5 = 7.2
A27: Werkuren per jaar = 262 * 7,2 = 1.886,40 uur
A28: Wettelijk minimumuurloon = € 13,68
A29: Minimum jaarloon = 1.886,40 uur x € 13,68 = € 25.805,952
... A31: * afgerond naar boven op de cent

Sheet Berekening
A1: Loonschalen met ingang van 1 juli 2024 | R1: Stijging WML per 1 juli 2024 | S1: 1.0309
B2: Schaal
A3: Periodiek | B3: O | C3: A | D3: B1 | E3: B2 | F3: C1 | G3: C2 | H3: D1 | I3: D2 | J3: E | K3: F | L3: G | M3: H | N3: I | R3: Bron stijging wml staatscourant | T3: https://zoek.officielebekendmakingen.nl/stcrt-2024-13508.html
A4: Start | B4: WML | C4: WML | D4: WML | E4: WML | F4: WML | G4: WML | H4: ='Loonschalen per 1 januari 2024'!H4*Berekening!$S$1 -> 2147.3647 | I4: ='Loonschalen per 1 januari 2024'!I4*Berekening!$S$1 -> 2147.3647 | J4: ='Loonschalen per 1 januari 2024'!J4*Berekening!$S$1 -> 2340.143 | K4: ='Loonschalen per 1 januari 2024'!K4*Berekening!$S$1 -> 2537.0449 | L4: ='Loonschalen per 1 januari 2024'!L4*Berekening!$S$1 -> 2693.7417 | M4: ='Loonschalen per 1 januari 2024'!M4*Berekening!$S$1 -> 3164.863 | N4: ='Loonschalen per 1 januari 2024'!N4*Berekening!$S$1 -> 3602.9955 | R4: en nieuwsbericht | S4: 0.0309 | T4: https://www.rijksoverheid.nl/actueel/nieuws/2024/04/17/eerste-kamer-tegen-extra-verhoging-wettelijk-minimumloon
A5: 1 | C5: WML | D5: WML | E5: WML | F5: ='Loonschalen per 1 januari 2024'!F5*Berekening!$S$1 -> 2073.1399 | G5: ='Loonschalen per 1 januari 2024'!G5*Berekening!$S$1 -> 2073.1399 | H5: ='Loonschalen per 1 januari 2024'!H5*Berekening!$S$1 -> 2261.7946 | I5: ='Loonschalen per 1 januari 2024'!I5*Berekening!$S$1 -> 2261.7946 | J5: ='Loonschalen per 1 januari 2024'!J5*Berekening!$S$1 -> 2537.0449 | K5: ='Loonschalen per 1 januari 2024'!K5*Berekening!$S$1 -> 2693.7417 | L5: ='Loonschalen per 1 januari 2024'!L5*Berekening!$S$1 -> 3004.0426 | M5: ='Loonschalen per 1 januari 2024'!M5*Berekening!$S$1 -> 3522.5853 | N5: ='Loonschalen per 1 januari 2024'!N5*Berekening!$S$1 -> 3840.1025
A6: 2 | C6: WML | D6: WML | E6: WML | F6: ='Loonschalen per 1 januari 2024'!F6*Berekening!$S$1 -> 2147.3647 | G6: ='Loonschalen per 1 januari 2024'!G6*Berekening!$S$1 -> 2147.3647 | H6: ='Loonschalen per 1 januari 2024'!H6*Berekening!$S$1 -> 2340.143 | I6: ='Loonschalen per 1 januari 2024'!I6*Berekening!$S$1 -> 2340.143 | J6: ='Loonschalen per 1 januari 2024'!J6*Berekening!$S$1 -> 2615.3933 | K6: ='Loonschalen per 1 januari 2024'!K6*Berekening!$S$1 -> 2776.2137 | L6: ='Loonschalen per 1 januari 2024'!L6*Berekening!$S$1 -> 3164.863 | M6: ='Loonschalen per 1 januari 2024'!M6*Berekening!$S$1 -> 3681.3439 | N6: ='Loonschalen per 1 januari 2024'!N6*Berekening!$S$1 -> 4035.9735 | R6: Bron berekening maandsalaris SZW: | T6: https://www.rijksoverheid.nl/onderwerpen/minimumloon/bedragen-minimumloon/bedragen-minimumloon-2024
A7: 3 | D7: WML | E7: WML | F7: ='Loonschalen per 1 januari 2024'!F7*Berekening!$S$1 -> 2223.6513 | G7: ='Loonschalen per 1 januari 2024'!G7*Berekening!$S$1 -> 2223.6513 | H7: ='Loonschalen per 1 januari 2024'!H7*Berekening!$S$1 -> 2458.6965 | I7: ='Loonschalen per 1 januari 2024'!I7*Berekening!$S$1 -> 2458.6965 | J7: ='Loonschalen per 1 januari 2024'!J7*Berekening!$S$1 -> 2693.7417 | K7: ='Loonschalen per 1 januari 2024'!K7*Berekening!$S$1 -> 2850.4385 | L7: ='Loonschalen per 1 januari 2024'!L7*Berekening!$S$1 -> 3325.6834 | M7: ='Loonschalen per 1 januari 2024'!M7*Berekening!$S$1 -> 3802.9901 | N7: ='Loonschalen per 1 januari 2024'!N7*Berekening!$S$1 -> 4194.7321
A8: 4 | D8: ='Loonschalen per 1 januari 2024'!D8*Berekening!$S$1 -> 2073.1399 | E8: ='Loonschalen per 1 januari 2024'!E8*Berekening!$S$1 -> 2073.1399 | F8: ='Loonschalen per 1 januari 2024'!F8*Berekening!$S$1 -> 2261.7946 | G8: ='Loonschalen per 1 januari 2024'!G8*Berekening!$S$1 -> 2261.7946 | H8: ='Loonschalen per 1 januari 2024'!H8*Berekening!$S$1 -> 2494.778 | I8: ='Loonschalen per 1 januari 2024'!I8*Berekening!$S$1 -> 2494.778 | J8: ='Loonschalen per 1 januari 2024'!J8*Berekening!$S$1 -> 2776.2137 | K8: ='Loonschalen per 1 januari 2024'!K8*Berekening!$S$1 -> 2928.7869 | ... N8: ='Loonschalen per 1 januari 2024'!N8*Berekening!$S$1 -> 4350.398
A9: 5 | E9: ='Loonschalen per 1 januari 2024'!E9*Berekening!$S$1 -> 2109.2214 | F9: ='Loonschalen per 1 januari 2024'!F9*Berekening!$S$1 -> 2298.907 | G9: ='Loonschalen per 1 januari 2024'!G9*Berekening!$S$1 -> 2298.907 | H9: ='Loonschalen per 1 januari 2024'!H9*Berekening!$S$1 -> 2537.0449 | I9: ='Loonschalen per 1 januari 2024'!I9*Berekening!$S$1 -> 2537.0449 | J9: ='Loonschalen per 1 januari 2024'!J9*Berekening!$S$1 -> 2850.4385 | K9: ='Loonschalen per 1 januari 2024'!K9*Berekening!$S$1 -> 3004.0426 | L9: ='Loonschalen per 1 januari 2024'!L9*Berekening!$S$1 -> 3522.5853 | ... N9: ='Loonschalen per 1 januari 2024'!N9*Berekening!$S$1 -> 4583.3814
A10: 6 | E10: ='Loonschalen per 1 januari 2024'!E10*Berekening!$S$1 -> 2147.3647 | G10: ='Loonschalen per 1 januari 2024'!G10*Berekening!$S$1 -> 2340.143 | H10: ='Loonschalen per 1 januari 2024'!H10*Berekening!$S$1 -> 2575.1882 | I10: ='Loonschalen per 1 januari 2024'!I10*Berekening!$S$1 -> 2575.1882 | J10: ='Loonschalen per 1 januari 2024'!J10*Berekening!$S$1 -> 2928.7869 | K10: ='Loonschalen per 1 januari 2024'!K10*Berekening!$S$1 -> 3083.4219 | L10: ='Loonschalen per 1 januari 2024'!L10*Berekening!$S$1 -> 3602.9955 | M10: ='Loonschalen per 1 januari 2024'!M10*Berekening!$S$1 -> 4035.9735 | N10: ='Loonschalen per 1 januari 2024'!N10*Berekening!$S$1 -> 4805.0249
A11: 7 | G11: ='Loonschalen per 1 januari 2024'!G11*Berekening!$S$1 -> 2403.0279 | I11: ='Loonschalen per 1 januari 2024'!I11*Berekening!$S$1 -> 2615.3933 | J11: ='Loonschalen per 1 januari 2024'!J11*Berekening!$S$1 -> 3004.0426 | K11: ='Loonschalen per 1 januari 2024'!K11*Berekening!$S$1 -> 3164.863 | L11: ='Loonschalen per 1 januari 2024'!L11*Berekening!$S$1 -> 3681.3439 | M11: ='Loonschalen per 1 januari 2024'!M11*Berekening!$S$1 -> 4101.9511 | N11: ='Loonschalen per 1 januari 2024'!N11*Berekening!$S$1 -> 4988.5251
A12: 8 | I12: ='Loonschalen per 1 januari 2024'!I12*Berekening!$S$1 -> 2693.7417 | J12: ='Loonschalen per 1 januari 2024'!J12*Berekening!$S$1 -> 3083.4219 | K12: ='Loonschalen per 1 januari 2024'!K12*Berekening!$S$1 -> 3246.3041 | L12: ='Loonschalen per 1 januari 2024'!L12*Berekening!$S$1 -> 3757.6305 | M12: ='Loonschalen per 1 januari 2024'!M12*Berekening!$S$1 -> 4194.7321 | N12: ='Loonschalen per 1 januari 2024'!N12*Berekening!$S$1 -> 5130.7893
A13: 9 | K13: ='Loonschalen per 1 januari 2024'!K13*Berekening!$S$1 -> 3325.6834 | L13: ='Loonschalen per 1 januari 2024'!L13*Berekening!$S$1 -> 3802.9901 | M13: ='Loonschalen per 1 januari 2024'!M13*Berekening!$S$1 -> 4272.0496 | N13: ='Loonschalen per 1 januari 2024'!N13*Berekening!$S$1 -> 5352.4328
A14: 10 | L14: ='Loonschalen per 1 januari 2024'!L14*Berekening!$S$1 -> 3840.1025 | M14: ='Loonschalen per 1 januari 2024'!M14*Berekening!$S$1 -> 4350.398 | N14: ='Loonschalen per 1 januari 2024'!N14*Berekening!$S$1 -> 5578.1999
A15: 11 | N15: ='Loonschalen per 1 januari 2024'!N15*Berekening!$S$1 -> 5791.5962
A17: De geel gearceerde bedragen komen lager uit dan het wettelijk minimumloon.
A18: Voor deze bedragen geldt dat de werkgever minimaal het wettelijk minimumloon uitbetaald.
A19: De bedragen bij die schalen worden verhoogd tot het niveau van het WML van 1 juli 2024.
A20: Het WML per 1 juli 2024 is op uurbasis: 13,68 euro per uur.
A21: Een referentiebedrag per maand is te berekenen voor een 36 urige werkweek: € 2.150,50
A23: Berekening WML 1 jul 2024 per maand 36-uur
A24: Werkdagen per jaar 2024 (ma-vr)= 262
A25: Uren per week = 36
A26: Uren per dag = 36 / 5 = 7.2
A27: Werkuren per jaar = 262 * 7,2 = 1.886,40 uur
A28: Wettelijk minimumuurloon = € 13,68
A29: Minimum jaarloon = 1.886,40 uur x € 13,68 = € 25.805,952
... A31: * afgerond naar boven op de cent

Sheet Loonschalen per 1 januari 2024
A1: Loonschalen met ingang van 1 januari 2024
B2: Schaal
A3: Periodiek | B3: O | C3: A | D3: B1 | E3: B2 | F3: C1 | G3: C2 | H3: D1 | I3: D2 | J3: E | K3: F | L3: G | M3: H | N3: I
A4: Start | B4: WML | C4: WML | D4: WML | E4: WML | F4: WML | G4: WML | H4: 2083 | I4: 2083 | J4: 2270 | K4: 2461 | L4: 2613 | M4: 3070 | N4: 3495
A5: 1 | C5: WML | D5: WML | E5: WML | F5: 2011 | G5: 2011 | H5: 2194 | I5: 2194 | J5: 2461 | K5: 2613 | L5: 2914 | M5: 3417 | N5: 3725
A6: 2 | C6: WML | D6: WML | E6: WML | F6: 2083 | G6: 2083 | H6: 2270 | I6: 2270 | J6: 2537 | K6: 2693 | L6: 3070 | M6: 3571 | N6: 3915
A7: 3 | D7: WML | E7: WML | F7: 2157 | G7: 2157 | H7: 2385 | I7: 2385 | J7: 2613 | K7: 2765 | L7: 3226 | M7: 3689 | N7: 4069
A8: 4 | D8: 2011 | E8: 2011 | F8: 2194 | G8: 2194 | H8: 2420 | I8: 2420 | J8: 2693 | K8: 2841 | L8: 3340 | M8: 3725 | N8: 4220
A9: 5 | E9: 2046 | F9: 2230 | G9: 2230 | H9: 2461 | I9: 2461 | J9: 2765 | K9: 2914 | L9: 3417 | M9: 3799 | N9: 4446
A10: 6 | E10: 2083 | G10: 2270 | H10: 2498 | I10: 2498 | J10: 2841 | K10: 2991 | L10: 3495 | M10: 3915 | N10: 4661
A11: 7 | G11: 2331 | I11: 2537 | J11: 2914 | K11: 3070 | L11: 3571 | M11: 3979 | N11: 4839
A12: 8 | I12: 2613 | J12: 2991 | K12: 3149 | L12: 3645 | M12: 4069 | N12: 4977
A13: 9 | K13: 3226 | L13: 3689 | M13: 4144 | N13: 5192
A14: 10 | L14: 3725 | M14: 4220 | N14: 5411
A15: 11 | N15: 5618
A17: De geel gearceerde bedragen komen lager uit dan het wettelijk minimumloon.
A18: Voor deze bedragen geldt dat de werkgever minimaal het wettelijk minimumloon uitbetaald.
A19: De bedragen bij die schalen worden verhoogd tot het niveau van het WML van 1 januari 2024.
A20: Het WML per 1 januari 2024 is op uurbasis: 13,27 euro per uur.
A21: Een referentiebedrag per maand is te berekenen voor een 36 urige werkweek: € 2.086,05
A23: Berekening WML 1 jan 2024 per maand 36-uur
A24: Werkdagen per jaar 2024 (ma-vr)= 262
A25: Uren per week = 36
A26: Uren per dag = 36 / 5 = 7.2
A27: Werkuren per jaar = 262 * 7,2 = 1.886,40 uur
A28: Wettelijk minimumuurloon = € 13,27
A29: Minimum jaarloon = 1.886,40 uur x € 13,27 = € 25.032,52
A30: Minimum maandloon (jaarloon / 12 maanden) = € 2086,05
